BEGIN:VCALENDAR
VERSION:2.0
PRODID:-//Transition Town Ilford - ECPv6.15.18//NONSGML v1.0//EN
CALSCALE:GREGORIAN
METHOD:PUBLISH
X-ORIGINAL-URL:https://transitionilford.org.uk
X-WR-CALDESC:Events for Transition Town Ilford
REFRESH-INTERVAL;VALUE=DURATION:PT1H
X-Robots-Tag:noindex
X-PUBLISHED-TTL:PT1H
BEGIN:VTIMEZONE
TZID:UTC
BEGIN:STANDARD
TZOFFSETFROM:+0000
TZOFFSETTO:+0000
TZNAME:UTC
DTSTART:20230101T000000
END:STANDARD
END:VTIMEZONE
BEGIN:VEVENT
DTSTART;TZID=UTC:20250920T140000
DTEND;TZID=UTC:20250920T154500
DTSTAMP:20260420T095743
CREATED:20250812T142942Z
LAST-MODIFIED:20250812T142942Z
UID:2318-1758376800-1758383100@transitionilford.org.uk
SUMMARY:Repair/ Energy Cafe
DESCRIPTION:https://transitionilford.org.uk/wp-content/uploads/2024/10/Ilford-Repair-Cafe-summer-24.mp4\nWe run two Repair Cafes a month at the fabulous Lab Central on the ground floor of Redbridge Central Library in Ilford.  It runs on alternate Saturdays from 2pm to 3.30pm\, but always check our website or socials. \nWe do electrical repairs\, sewing repairs\, computers (need to contact us first)\, sometimes jewellery\, we have a volunteer who is great at mending zips and we like to mend bits and bobs.   \nWe run an Energy Café at the same time with tips and support for energy reduction and saving money/carbon.  It’s a great atmosphere and we look forward to your visit. 
URL:https://transitionilford.org.uk/event/repair-energy-cafe-18/
LOCATION:Redbridge Central Library\, Clements Rd\, Ilford\, London\, IG1 1EA\, United Kingdom
CATEGORIES:Energy Cafe,Reapir/ Energy Cafe,Repair Cafe
END:VEVENT
BEGIN:VEVENT
DTSTART;TZID=UTC:20250906T140000
DTEND;TZID=UTC:20250906T154500
DTSTAMP:20260420T095743
CREATED:20250812T142906Z
LAST-MODIFIED:20250812T142906Z
UID:2316-1757167200-1757173500@transitionilford.org.uk
SUMMARY:Repair/ Energy Cafe
DESCRIPTION:https://transitionilford.org.uk/wp-content/uploads/2024/10/Ilford-Repair-Cafe-summer-24.mp4\nWe run two Repair Cafes a month at the fabulous Lab Central on the ground floor of Redbridge Central Library in Ilford.  It runs on alternate Saturdays from 2pm to 3.30pm\, but always check our website or socials. \nWe do electrical repairs\, sewing repairs\, computers (need to contact us first)\, sometimes jewellery\, we have a volunteer who is great at mending zips and we like to mend bits and bobs.   \nWe run an Energy Café at the same time with tips and support for energy reduction and saving money/carbon.  It’s a great atmosphere and we look forward to your visit. 
URL:https://transitionilford.org.uk/event/repair-energy-cafe-17/
LOCATION:Redbridge Central Library\, Clements Rd\, Ilford\, London\, IG1 1EA\, United Kingdom
CATEGORIES:Energy Cafe,Reapir/ Energy Cafe,Repair Cafe
END:VEVENT
BEGIN:VEVENT
DTSTART;TZID=UTC:20250726T140000
DTEND;TZID=UTC:20250726T154500
DTSTAMP:20260420T095743
CREATED:20250520T121704Z
LAST-MODIFIED:20250520T121704Z
UID:2136-1753538400-1753544700@transitionilford.org.uk
SUMMARY:Repair/ Energy Cafe
DESCRIPTION:https://transitionilford.org.uk/wp-content/uploads/2024/10/Ilford-Repair-Cafe-summer-24.mp4\nWe run two Repair Cafes a month at the fabulous Lab Central on the ground floor of Redbridge Central Library in Ilford.  It runs on alternate Saturdays from 2pm to 3.30pm\, but always check our website or socials. \nWe do electrical repairs\, sewing repairs\, computers (need to contact us first)\, sometimes jewellery\, we have a volunteer who is great at mending zips and we like to mend bits and bobs.   \nWe run an Energy Café at the same time with tips and support for energy reduction and saving money/carbon.  It’s a great atmosphere and we look forward to your visit. 
URL:https://transitionilford.org.uk/event/repair-energy-cafe-16/
LOCATION:Redbridge Central Library\, Clements Rd\, Ilford\, London\, IG1 1EA\, United Kingdom
CATEGORIES:Energy Cafe,Reapir/ Energy Cafe,Repair Cafe
END:VEVENT
BEGIN:VEVENT
DTSTART;TZID=UTC:20250712T140000
DTEND;TZID=UTC:20250712T154500
DTSTAMP:20260420T095743
CREATED:20250520T121633Z
LAST-MODIFIED:20250520T121633Z
UID:2134-1752328800-1752335100@transitionilford.org.uk
SUMMARY:Repair/ Energy Cafe
DESCRIPTION:https://transitionilford.org.uk/wp-content/uploads/2024/10/Ilford-Repair-Cafe-summer-24.mp4\nWe run two Repair Cafes a month at the fabulous Lab Central on the ground floor of Redbridge Central Library in Ilford.  It runs on alternate Saturdays from 2pm to 3.30pm\, but always check our website or socials. \nWe do electrical repairs\, sewing repairs\, computers (need to contact us first)\, sometimes jewellery\, we have a volunteer who is great at mending zips and we like to mend bits and bobs.   \nWe run an Energy Café at the same time with tips and support for energy reduction and saving money/carbon.  It’s a great atmosphere and we look forward to your visit. 
URL:https://transitionilford.org.uk/event/repair-energy-cafe-15/
LOCATION:Redbridge Central Library\, Clements Rd\, Ilford\, London\, IG1 1EA\, United Kingdom
CATEGORIES:Energy Cafe,Reapir/ Energy Cafe,Repair Cafe
END:VEVENT
BEGIN:VEVENT
DTSTART;TZID=UTC:20250628T140000
DTEND;TZID=UTC:20250628T154500
DTSTAMP:20260420T095743
CREATED:20250520T121521Z
LAST-MODIFIED:20250520T121521Z
UID:2132-1751119200-1751125500@transitionilford.org.uk
SUMMARY:Repair/ Energy Cafe
DESCRIPTION:https://transitionilford.org.uk/wp-content/uploads/2024/10/Ilford-Repair-Cafe-summer-24.mp4\nWe run two Repair Cafes a month at the fabulous Lab Central on the ground floor of Redbridge Central Library in Ilford.  It runs on alternate Saturdays from 2pm to 3.30pm\, but always check our website or socials. \nWe do electrical repairs\, sewing repairs\, computers (need to contact us first)\, sometimes jewellery\, we have a volunteer who is great at mending zips and we like to mend bits and bobs.   \nWe run an Energy Café at the same time with tips and support for energy reduction and saving money/carbon.  It’s a great atmosphere and we look forward to your visit. 
URL:https://transitionilford.org.uk/event/repair-energy-cafe-14/
LOCATION:Redbridge Central Library\, Clements Rd\, Ilford\, London\, IG1 1EA\, United Kingdom
CATEGORIES:Energy Cafe,Reapir/ Energy Cafe,Repair Cafe
END:VEVENT
BEGIN:VEVENT
DTSTART;TZID=UTC:20250531T140000
DTEND;TZID=UTC:20250531T154500
DTSTAMP:20260420T095743
CREATED:20250401T123350Z
LAST-MODIFIED:20250401T123350Z
UID:1943-1748700000-1748706300@transitionilford.org.uk
SUMMARY:Repair/ Energy Cafe
DESCRIPTION:https://transitionilford.org.uk/wp-content/uploads/2024/10/Ilford-Repair-Cafe-summer-24.mp4\nWe run two Repair Cafes a month at the fabulous Lab Central on the ground floor of Redbridge Central Library in Ilford.  It runs on alternate Saturdays from 2pm to 3.30pm\, but always check our website or socials. \nWe do electrical repairs\, sewing repairs\, computers (need to contact us first)\, sometimes jewellery\, we have a volunteer who is great at mending zips and we like to mend bits and bobs.   \nWe run an Energy Café at the same time with tips and support for energy reduction and saving money/carbon.  It’s a great atmosphere and we look forward to your visit. 
URL:https://transitionilford.org.uk/event/repair-energy-cafe-13/
LOCATION:Redbridge Central Library\, Clements Rd\, Ilford\, London\, IG1 1EA\, United Kingdom
CATEGORIES:Energy Cafe,Reapir/ Energy Cafe,Repair Cafe
END:VEVENT
BEGIN:VEVENT
DTSTART;TZID=UTC:20250517T140000
DTEND;TZID=UTC:20250517T154500
DTSTAMP:20260420T095743
CREATED:20250401T123325Z
LAST-MODIFIED:20250401T123325Z
UID:1941-1747490400-1747496700@transitionilford.org.uk
SUMMARY:Repair/ Energy Cafe
DESCRIPTION:https://transitionilford.org.uk/wp-content/uploads/2024/10/Ilford-Repair-Cafe-summer-24.mp4\nWe run two Repair Cafes a month at the fabulous Lab Central on the ground floor of Redbridge Central Library in Ilford.  It runs on alternate Saturdays from 2pm to 3.30pm\, but always check our website or socials. \nWe do electrical repairs\, sewing repairs\, computers (need to contact us first)\, sometimes jewellery\, we have a volunteer who is great at mending zips and we like to mend bits and bobs.   \nWe run an Energy Café at the same time with tips and support for energy reduction and saving money/carbon.  It’s a great atmosphere and we look forward to your visit. 
URL:https://transitionilford.org.uk/event/repair-energy-cafe-12/
LOCATION:Redbridge Central Library\, Clements Rd\, Ilford\, London\, IG1 1EA\, United Kingdom
CATEGORIES:Energy Cafe,Reapir/ Energy Cafe,Repair Cafe
END:VEVENT
BEGIN:VEVENT
DTSTART;TZID=UTC:20250503T140000
DTEND;TZID=UTC:20250503T154500
DTSTAMP:20260420T095743
CREATED:20250401T123240Z
LAST-MODIFIED:20250401T123240Z
UID:1939-1746280800-1746287100@transitionilford.org.uk
SUMMARY:Repair/ Energy Cafe
DESCRIPTION:https://transitionilford.org.uk/wp-content/uploads/2024/10/Ilford-Repair-Cafe-summer-24.mp4\nWe run two Repair Cafes a month at the fabulous Lab Central on the ground floor of Redbridge Central Library in Ilford.  It runs on alternate Saturdays from 2pm to 3.30pm\, but always check our website or socials. \nWe do electrical repairs\, sewing repairs\, computers (need to contact us first)\, sometimes jewellery\, we have a volunteer who is great at mending zips and we like to mend bits and bobs.   \nWe run an Energy Café at the same time with tips and support for energy reduction and saving money/carbon.  It’s a great atmosphere and we look forward to your visit. 
URL:https://transitionilford.org.uk/event/repair-energy-cafe-11/
LOCATION:Redbridge Central Library\, Clements Rd\, Ilford\, London\, IG1 1EA\, United Kingdom
CATEGORIES:Energy Cafe,Reapir/ Energy Cafe,Repair Cafe
END:VEVENT
BEGIN:VEVENT
DTSTART;TZID=UTC:20250419T140000
DTEND;TZID=UTC:20250419T154500
DTSTAMP:20260420T095743
CREATED:20250401T123114Z
LAST-MODIFIED:20250401T123114Z
UID:1937-1745071200-1745077500@transitionilford.org.uk
SUMMARY:Repair/ Energy Cafe
DESCRIPTION:https://transitionilford.org.uk/wp-content/uploads/2024/10/Ilford-Repair-Cafe-summer-24.mp4\nWe run two Repair Cafes a month at the fabulous Lab Central on the ground floor of Redbridge Central Library in Ilford.  It runs on alternate Saturdays from 2pm to 3.30pm\, but always check our website or socials. \nWe do electrical repairs\, sewing repairs\, computers (need to contact us first)\, sometimes jewellery\, we have a volunteer who is great at mending zips and we like to mend bits and bobs.   \nWe run an Energy Café at the same time with tips and support for energy reduction and saving money/carbon.  It’s a great atmosphere and we look forward to your visit. 
URL:https://transitionilford.org.uk/event/repair-energy-cafe-10/
LOCATION:Redbridge Central Library\, Clements Rd\, Ilford\, London\, IG1 1EA\, United Kingdom
CATEGORIES:Energy Cafe,Reapir/ Energy Cafe,Repair Cafe
END:VEVENT
BEGIN:VEVENT
DTSTART;TZID=UTC:20250405T140000
DTEND;TZID=UTC:20250405T154500
DTSTAMP:20260420T095743
CREATED:20250401T123037Z
LAST-MODIFIED:20250401T123037Z
UID:1935-1743861600-1743867900@transitionilford.org.uk
SUMMARY:Repair/ Energy Cafe
DESCRIPTION:https://transitionilford.org.uk/wp-content/uploads/2024/10/Ilford-Repair-Cafe-summer-24.mp4\nWe run two Repair Cafes a month at the fabulous Lab Central on the ground floor of Redbridge Central Library in Ilford.  It runs on alternate Saturdays from 2pm to 3.30pm\, but always check our website or socials. \nWe do electrical repairs\, sewing repairs\, computers (need to contact us first)\, sometimes jewellery\, we have a volunteer who is great at mending zips and we like to mend bits and bobs.   \nWe run an Energy Café at the same time with tips and support for energy reduction and saving money/carbon.  It’s a great atmosphere and we look forward to your visit. 
URL:https://transitionilford.org.uk/event/repair-energy-cafe-9/
LOCATION:Redbridge Central Library\, Clements Rd\, Ilford\, London\, IG1 1EA\, United Kingdom
CATEGORIES:Energy Cafe,Reapir/ Energy Cafe,Repair Cafe
END:VEVENT
BEGIN:VEVENT
DTSTART;TZID=UTC:20250322T140000
DTEND;TZID=UTC:20250322T154500
DTSTAMP:20260420T095743
CREATED:20250225T111313Z
LAST-MODIFIED:20250225T111313Z
UID:1867-1742652000-1742658300@transitionilford.org.uk
SUMMARY:Repair/ Energy Cafe
DESCRIPTION:https://transitionilford.org.uk/wp-content/uploads/2024/10/Ilford-Repair-Cafe-summer-24.mp4\nWe run two Repair Cafes a month at the fabulous Lab Central on the ground floor of Redbridge Central Library in Ilford.  It runs on alternate Saturdays from 2pm to 3.30pm\, but always check our website or socials. \nWe do electrical repairs\, sewing repairs\, computers (need to contact us first)\, sometimes jewellery\, we have a volunteer who is great at mending zips and we like to mend bits and bobs.   \nWe run an Energy Café at the same time with tips and support for energy reduction and saving money/carbon.  It’s a great atmosphere and we look forward to your visit. 
URL:https://transitionilford.org.uk/event/repair-energy-cafe-8/
LOCATION:Redbridge Central Library\, Clements Rd\, Ilford\, London\, IG1 1EA\, United Kingdom
CATEGORIES:Energy Cafe,Reapir/ Energy Cafe,Repair Cafe
END:VEVENT
BEGIN:VEVENT
DTSTART;TZID=UTC:20250308T140000
DTEND;TZID=UTC:20250308T154500
DTSTAMP:20260420T095743
CREATED:20250225T111153Z
LAST-MODIFIED:20250225T111220Z
UID:1865-1741442400-1741448700@transitionilford.org.uk
SUMMARY:Repair/ Energy Cafe
DESCRIPTION:https://transitionilford.org.uk/wp-content/uploads/2024/10/Ilford-Repair-Cafe-summer-24.mp4\nWe run two Repair Cafes a month at the fabulous Lab Central on the ground floor of Redbridge Central Library in Ilford.  It runs on alternate Saturdays from 2pm to 3.30pm\, but always check our website or socials. \nWe do electrical repairs\, sewing repairs\, computers (need to contact us first)\, sometimes jewellery\, we have a volunteer who is great at mending zips and we like to mend bits and bobs.   \nWe run an Energy Café at the same time with tips and support for energy reduction and saving money/carbon.  It’s a great atmosphere and we look forward to your visit. 
URL:https://transitionilford.org.uk/event/repair-energy-cafe-7/
LOCATION:Redbridge Central Library\, Clements Rd\, Ilford\, London\, IG1 1EA\, United Kingdom
CATEGORIES:Energy Cafe,Reapir/ Energy Cafe,Repair Cafe
END:VEVENT
BEGIN:VEVENT
DTSTART;TZID=UTC:20250222T140000
DTEND;TZID=UTC:20250222T154500
DTSTAMP:20260420T095743
CREATED:20250128T132426Z
LAST-MODIFIED:20250128T132426Z
UID:1623-1740232800-1740239100@transitionilford.org.uk
SUMMARY:Repair/ Energy Cafe
DESCRIPTION:https://transitionilford.org.uk/wp-content/uploads/2024/10/Ilford-Repair-Cafe-summer-24.mp4\nWe run two Repair Cafes a month at the fabulous Lab Central on the ground floor of Redbridge Central Library in Ilford.  It runs on alternate Saturdays from 2pm to 3.30pm\, but always check our website or socials. \nWe do electrical repairs\, sewing repairs\, computers (need to contact us first)\, sometimes jewellery\, we have a volunteer who is great at mending zips and we like to mend bits and bobs.   \nWe run an Energy Café at the same time with tips and support for energy reduction and saving money/carbon.  It’s a great atmosphere and we look forward to your visit. 
URL:https://transitionilford.org.uk/event/repair-energy-cafe-6/
LOCATION:Redbridge Central Library\, Clements Rd\, Ilford\, London\, IG1 1EA\, United Kingdom
CATEGORIES:Energy Cafe,Reapir/ Energy Cafe
END:VEVENT
BEGIN:VEVENT
DTSTART;TZID=UTC:20250208T140000
DTEND;TZID=UTC:20250208T154500
DTSTAMP:20260420T095743
CREATED:20250128T132254Z
LAST-MODIFIED:20250128T132254Z
UID:1621-1739023200-1739029500@transitionilford.org.uk
SUMMARY:Repair/ Energy Cafe
DESCRIPTION:https://transitionilford.org.uk/wp-content/uploads/2024/10/Ilford-Repair-Cafe-summer-24.mp4\nWe run two Repair Cafes a month at the fabulous Lab Central on the ground floor of Redbridge Central Library in Ilford.  It runs on alternate Saturdays from 2pm to 3.30pm\, but always check our website or socials. \nWe do electrical repairs\, sewing repairs\, computers (need to contact us first)\, sometimes jewellery\, we have a volunteer who is great at mending zips and we like to mend bits and bobs.   \nWe run an Energy Café at the same time with tips and support for energy reduction and saving money/carbon.  It’s a great atmosphere and we look forward to your visit. 
URL:https://transitionilford.org.uk/event/repair-energy-cafe-5/
LOCATION:Redbridge Central Library\, Clements Rd\, Ilford\, London\, IG1 1EA\, United Kingdom
CATEGORIES:Reapir/ Energy Cafe
END:VEVENT
BEGIN:VEVENT
DTSTART;TZID=UTC:20250125T140000
DTEND;TZID=UTC:20250125T154500
DTSTAMP:20260420T095743
CREATED:20240208T102801Z
LAST-MODIFIED:20250128T132146Z
UID:1116-1737813600-1737819900@transitionilford.org.uk
SUMMARY:Repair/ Energy Cafe
DESCRIPTION:https://transitionilford.org.uk/wp-content/uploads/2024/10/Ilford-Repair-Cafe-summer-24.mp4\nWe run two Repair Cafes a month at the fabulous Lab Central on the ground floor of Redbridge Central Library in Ilford.  It runs on alternate Saturdays from 2pm to 3.30pm\, but always check our website or socials. \nWe do electrical repairs\, sewing repairs\, computers (need to contact us first)\, sometimes jewellery\, we have a volunteer who is great at mending zips and we like to mend bits and bobs.   \nWe run an Energy Café at the same time with tips and support for energy reduction and saving money/carbon.  It’s a great atmosphere and we look forward to your visit. 
URL:https://transitionilford.org.uk/event/repair-energy-cafe-4/
LOCATION:Redbridge Central Library\, Clements Rd\, Ilford\, London\, IG1 1EA\, United Kingdom
CATEGORIES:Reapir/ Energy Cafe
END:VEVENT
BEGIN:VEVENT
DTSTART;TZID=UTC:20241116T140000
DTEND;TZID=UTC:20241116T153000
DTSTAMP:20260420T095743
CREATED:20241023T104139Z
LAST-MODIFIED:20241105T102019Z
UID:966-1731765600-1731771000@transitionilford.org.uk
SUMMARY:Repair/ Energy Cafe
DESCRIPTION:We run two Repair Cafes a month at the fabulous Lab Central on the ground floor of Redbridge Central Library in Ilford.  It runs on alternate Saturdays from 2pm to 3.30pm\, but always check our website or socials. \nWe do electrical repairs\, sewing repairs\, computers (need to contact us first)\, sometimes jewellery\, we have a volunteer who is great at mending zips and we like to mend bits and bobs.   \nWe run an Energy Café at the same time with tips and support for energy reduction and saving money/carbon.  It’s a great atmosphere and we look forward to your visit. 
URL:https://transitionilford.org.uk/event/repair-energy-cafe-3/
LOCATION:Redbridge Central Library\, Clements Rd\, Ilford\, London\, IG1 1EA\, United Kingdom
CATEGORIES:Reapir/ Energy Cafe
END:VEVENT
BEGIN:VEVENT
DTSTART;TZID=UTC:20241019T140000
DTEND;TZID=UTC:20241019T153000
DTSTAMP:20260420T095743
CREATED:20240929T190527Z
LAST-MODIFIED:20240929T190533Z
UID:777-1729346400-1729351800@transitionilford.org.uk
SUMMARY:Repair/ Energy Cafe
DESCRIPTION:
URL:https://transitionilford.org.uk/event/repair-energy-cafe-2/
LOCATION:Redbridge Central Library\, Clements Rd\, Ilford\, London\, IG1 1EA\, United Kingdom
CATEGORIES:Reapir/ Energy Cafe
END:VEVENT
BEGIN:VEVENT
DTSTART;TZID=UTC:20241005T140000
DTEND;TZID=UTC:20241005T153000
DTSTAMP:20260420T095743
CREATED:20240929T174653Z
LAST-MODIFIED:20240929T181649Z
UID:748-1728136800-1728142200@transitionilford.org.uk
SUMMARY:Repair/ Energy Cafe
DESCRIPTION:
URL:https://transitionilford.org.uk/event/repair-energy-cafe/
LOCATION:Redbridge Central Library\, Clements Rd\, Ilford\, London\, IG1 1EA\, United Kingdom
CATEGORIES:Reapir/ Energy Cafe
END:VEVENT
END:VCALENDAR