BEGIN:VCALENDAR
VERSION:2.0
PRODID:-//Transition Town Ilford - ECPv6.15.18//NONSGML v1.0//EN
CALSCALE:GREGORIAN
METHOD:PUBLISH
X-ORIGINAL-URL:https://transitionilford.org.uk
X-WR-CALDESC:Events for Transition Town Ilford
REFRESH-INTERVAL;VALUE=DURATION:PT1H
X-Robots-Tag:noindex
X-PUBLISHED-TTL:PT1H
BEGIN:VTIMEZONE
TZID:UTC
BEGIN:STANDARD
TZOFFSETFROM:+0000
TZOFFSETTO:+0000
TZNAME:UTC
DTSTART:20240101T000000
END:STANDARD
END:VTIMEZONE
BEGIN:VTIMEZONE
TZID:Europe/London
BEGIN:DAYLIGHT
TZOFFSETFROM:+0000
TZOFFSETTO:+0100
TZNAME:BST
DTSTART:20240331T010000
END:DAYLIGHT
BEGIN:STANDARD
TZOFFSETFROM:+0100
TZOFFSETTO:+0000
TZNAME:GMT
DTSTART:20241027T010000
END:STANDARD
BEGIN:DAYLIGHT
TZOFFSETFROM:+0000
TZOFFSETTO:+0100
TZNAME:BST
DTSTART:20250330T010000
END:DAYLIGHT
BEGIN:STANDARD
TZOFFSETFROM:+0100
TZOFFSETTO:+0000
TZNAME:GMT
DTSTART:20251026T010000
END:STANDARD
BEGIN:DAYLIGHT
TZOFFSETFROM:+0000
TZOFFSETTO:+0100
TZNAME:BST
DTSTART:20260329T010000
END:DAYLIGHT
BEGIN:STANDARD
TZOFFSETFROM:+0100
TZOFFSETTO:+0000
TZNAME:GMT
DTSTART:20261025T010000
END:STANDARD
END:VTIMEZONE
BEGIN:VEVENT
DTSTART;TZID=UTC:20250822T100000
DTEND;TZID=UTC:20250822T120000
DTSTAMP:20260424T162926
CREATED:20250812T142726Z
LAST-MODIFIED:20250812T144806Z
UID:2312-1755856800-1755864000@transitionilford.org.uk
SUMMARY:Forest Garden Weekly Gardening Sessions
DESCRIPTION:Just turn up on Fridays to join in the growing\, watering\, maintenance of our lovely community Forest Garden.    To see more information look at our Forest Garden webpage.  For the google pin click here: 
URL:https://transitionilford.org.uk/event/forest-garden-weekly-gardening-sessions-10/
CATEGORIES:Forest Garden
END:VEVENT
BEGIN:VEVENT
DTSTART;TZID=UTC:20250815T100000
DTEND;TZID=UTC:20250815T120000
DTSTAMP:20260424T162926
CREATED:20250812T142609Z
LAST-MODIFIED:20250812T144842Z
UID:2310-1755252000-1755259200@transitionilford.org.uk
SUMMARY:Forest Garden Weekly Gardening Sessions
DESCRIPTION:Just turn up on Fridays to join in the growing\, watering\, maintenance of our lovely community Forest Garden.    To see more information look at our Forest Garden webpage.  For the google pin click here: 
URL:https://transitionilford.org.uk/event/forest-garden-weekly-gardening-sessions-9/
CATEGORIES:Forest Garden
END:VEVENT
BEGIN:VEVENT
DTSTART;TZID=Europe/London:20250813T170000
DTEND;TZID=Europe/London:20250813T190000
DTSTAMP:20260424T162926
CREATED:20250812T145302Z
LAST-MODIFIED:20250812T145603Z
UID:2332-1755104400-1755111600@transitionilford.org.uk
SUMMARY:Leftover cooking workshop
DESCRIPTION:Wednesday\, 13th August\, 5-9pm. \nIlford Transition Town is organising a free cooking session with local fruit .\nFallen apples and plums can be used for a variety of purposes\, including making jams\, chutneys\, sauces\, compotes\, etc. They can also be stewed and frozen for later use. \nIf you would like to be part of this cooking together session in one of our members kitchen\, please get in touch with us. It is on first come first served basis as we have only limited 10 places. All fruit will be provided but you are welcome to bring your own fruit as well. \nIf you are interested please email ilfordtransition@gmail.com to register.
URL:https://transitionilford.org.uk/event/leftover-cooking-workshop/
END:VEVENT
BEGIN:VEVENT
DTSTART;TZID=Europe/London:20250813T100000
DTEND;TZID=Europe/London:20250813T120000
DTSTAMP:20260424T162926
CREATED:20250812T142447Z
LAST-MODIFIED:20250812T142447Z
UID:2308-1755079200-1755086400@transitionilford.org.uk
SUMMARY:Summer Activities
DESCRIPTION:
URL:https://transitionilford.org.uk/event/summer-activities/
LOCATION:Valentines Park Forest Garden
END:VEVENT
BEGIN:VEVENT
DTSTART;TZID=UTC:20250726T140000
DTEND;TZID=UTC:20250726T154500
DTSTAMP:20260424T162926
CREATED:20250520T121704Z
LAST-MODIFIED:20250520T121704Z
UID:2136-1753538400-1753544700@transitionilford.org.uk
SUMMARY:Repair/ Energy Cafe
DESCRIPTION:https://transitionilford.org.uk/wp-content/uploads/2024/10/Ilford-Repair-Cafe-summer-24.mp4\nWe run two Repair Cafes a month at the fabulous Lab Central on the ground floor of Redbridge Central Library in Ilford.  It runs on alternate Saturdays from 2pm to 3.30pm\, but always check our website or socials. \nWe do electrical repairs\, sewing repairs\, computers (need to contact us first)\, sometimes jewellery\, we have a volunteer who is great at mending zips and we like to mend bits and bobs.   \nWe run an Energy Café at the same time with tips and support for energy reduction and saving money/carbon.  It’s a great atmosphere and we look forward to your visit. 
URL:https://transitionilford.org.uk/event/repair-energy-cafe-16/
LOCATION:Redbridge Central Library\, Clements Rd\, Ilford\, London\, IG1 1EA\, United Kingdom
CATEGORIES:Energy Cafe,Reapir/ Energy Cafe,Repair Cafe
END:VEVENT
BEGIN:VEVENT
DTSTART;TZID=UTC:20250725T100000
DTEND;TZID=UTC:20250725T120000
DTSTAMP:20260424T162926
CREATED:20250520T115103Z
LAST-MODIFIED:20250520T115345Z
UID:2124-1753437600-1753444800@transitionilford.org.uk
SUMMARY:Forest Garden Weekly Gardening Sessions
DESCRIPTION:Just turn up on Fridays to join in the growing\, watering\, maintenance of our lovely community Forest Garden.    To see more information look at our Forest Garden webpage.  For the google pin click here: 
URL:https://transitionilford.org.uk/event/forest-garden-weekly-gardening-sessions-8/
CATEGORIES:Forest Garden
END:VEVENT
BEGIN:VEVENT
DTSTART;TZID=UTC:20250718T100000
DTEND;TZID=UTC:20250718T120000
DTSTAMP:20260424T162926
CREATED:20250520T115032Z
LAST-MODIFIED:20250520T115032Z
UID:2122-1752832800-1752840000@transitionilford.org.uk
SUMMARY:Forest Garden Weekly Gardening Sessions
DESCRIPTION:Just turn up on Fridays to join in the growing\, watering\, maintenance of our lovely community Forest Garden.    To see more information look at our Forest Garden webpage.  For the google pin click here: 
URL:https://transitionilford.org.uk/event/forest-garden-weekly-gardening-sessions-7/
CATEGORIES:Forest Garden
END:VEVENT
BEGIN:VEVENT
DTSTART;TZID=UTC:20250712T140000
DTEND;TZID=UTC:20250712T154500
DTSTAMP:20260424T162926
CREATED:20250520T121633Z
LAST-MODIFIED:20250520T121633Z
UID:2134-1752328800-1752335100@transitionilford.org.uk
SUMMARY:Repair/ Energy Cafe
DESCRIPTION:https://transitionilford.org.uk/wp-content/uploads/2024/10/Ilford-Repair-Cafe-summer-24.mp4\nWe run two Repair Cafes a month at the fabulous Lab Central on the ground floor of Redbridge Central Library in Ilford.  It runs on alternate Saturdays from 2pm to 3.30pm\, but always check our website or socials. \nWe do electrical repairs\, sewing repairs\, computers (need to contact us first)\, sometimes jewellery\, we have a volunteer who is great at mending zips and we like to mend bits and bobs.   \nWe run an Energy Café at the same time with tips and support for energy reduction and saving money/carbon.  It’s a great atmosphere and we look forward to your visit. 
URL:https://transitionilford.org.uk/event/repair-energy-cafe-15/
LOCATION:Redbridge Central Library\, Clements Rd\, Ilford\, London\, IG1 1EA\, United Kingdom
CATEGORIES:Energy Cafe,Reapir/ Energy Cafe,Repair Cafe
END:VEVENT
BEGIN:VEVENT
DTSTART;TZID=UTC:20250711T100000
DTEND;TZID=UTC:20250711T120000
DTSTAMP:20260424T162926
CREATED:20250520T115010Z
LAST-MODIFIED:20250520T115010Z
UID:2120-1752228000-1752235200@transitionilford.org.uk
SUMMARY:Forest Garden Weekly Gardening Sessions
DESCRIPTION:Just turn up on Fridays to join in the growing\, watering\, maintenance of our lovely community Forest Garden.    To see more information look at our Forest Garden webpage.  For the google pin click here: 
URL:https://transitionilford.org.uk/event/forest-garden-weekly-gardening-sessions-6/
CATEGORIES:Forest Garden
END:VEVENT
BEGIN:VEVENT
DTSTART;TZID=UTC:20250704T100000
DTEND;TZID=UTC:20250704T120000
DTSTAMP:20260424T162926
CREATED:20250520T114937Z
LAST-MODIFIED:20250520T114937Z
UID:2117-1751623200-1751630400@transitionilford.org.uk
SUMMARY:Forest Garden Weekly Gardening Sessions
DESCRIPTION:Just turn up on Fridays to join in the growing\, watering\, maintenance of our lovely community Forest Garden.    To see more information look at our Forest Garden webpage.  For the google pin click here: 
URL:https://transitionilford.org.uk/event/forest-garden-weekly-gardening-sessions-5/
CATEGORIES:Forest Garden
END:VEVENT
BEGIN:VEVENT
DTSTART;TZID=UTC:20250628T140000
DTEND;TZID=UTC:20250628T154500
DTSTAMP:20260424T162926
CREATED:20250520T121521Z
LAST-MODIFIED:20250520T121521Z
UID:2132-1751119200-1751125500@transitionilford.org.uk
SUMMARY:Repair/ Energy Cafe
DESCRIPTION:https://transitionilford.org.uk/wp-content/uploads/2024/10/Ilford-Repair-Cafe-summer-24.mp4\nWe run two Repair Cafes a month at the fabulous Lab Central on the ground floor of Redbridge Central Library in Ilford.  It runs on alternate Saturdays from 2pm to 3.30pm\, but always check our website or socials. \nWe do electrical repairs\, sewing repairs\, computers (need to contact us first)\, sometimes jewellery\, we have a volunteer who is great at mending zips and we like to mend bits and bobs.   \nWe run an Energy Café at the same time with tips and support for energy reduction and saving money/carbon.  It’s a great atmosphere and we look forward to your visit. 
URL:https://transitionilford.org.uk/event/repair-energy-cafe-14/
LOCATION:Redbridge Central Library\, Clements Rd\, Ilford\, London\, IG1 1EA\, United Kingdom
CATEGORIES:Energy Cafe,Reapir/ Energy Cafe,Repair Cafe
END:VEVENT
BEGIN:VEVENT
DTSTART;TZID=UTC:20250627T100000
DTEND;TZID=UTC:20250627T120000
DTSTAMP:20260424T162926
CREATED:20250520T114912Z
LAST-MODIFIED:20250520T114912Z
UID:2115-1751018400-1751025600@transitionilford.org.uk
SUMMARY:Forest Garden Weekly Gardening Sessions
DESCRIPTION:Just turn up on Fridays to join in the growing\, watering\, maintenance of our lovely community Forest Garden.    To see more information look at our Forest Garden webpage.  For the google pin click here: 
URL:https://transitionilford.org.uk/event/forest-garden-weekly-gardening-sessions-4/
CATEGORIES:Forest Garden
END:VEVENT
BEGIN:VEVENT
DTSTART;TZID=Europe/London:20250621T120000
DTEND;TZID=Europe/London:20250621T160000
DTSTAMP:20260424T162926
CREATED:20250520T122442Z
LAST-MODIFIED:20250612T125218Z
UID:2138-1750507200-1750521600@transitionilford.org.uk
SUMMARY:Forest Garden Festival 2025
DESCRIPTION:We have run a mini Festival for the past 3 years.  We are holding this on on the Summer Solstice and hope to have all sorts of gardening and nature activities as well as food\, workshops\, tours… We are also celebrating the launch of our new Forest Garden sculpture.  More details to follow.  Time of the event is 1-4pm..
URL:https://transitionilford.org.uk/event/forest-garden-festival-2025/
END:VEVENT
BEGIN:VEVENT
DTSTART;TZID=UTC:20250620T100000
DTEND;TZID=UTC:20250620T120000
DTSTAMP:20260424T162926
CREATED:20250520T114841Z
LAST-MODIFIED:20250520T114841Z
UID:2113-1750413600-1750420800@transitionilford.org.uk
SUMMARY:Forest Garden Weekly Gardening Sessions
DESCRIPTION:Just turn up on Fridays to join in the growing\, watering\, maintenance of our lovely community Forest Garden.    To see more information look at our Forest Garden webpage.  For the google pin click here: 
URL:https://transitionilford.org.uk/event/forest-garden-weekly-gardening-sessions-3/
CATEGORIES:Forest Garden
END:VEVENT
BEGIN:VEVENT
DTSTART;TZID=UTC:20250613T100000
DTEND;TZID=UTC:20250613T120000
DTSTAMP:20260424T162926
CREATED:20250520T114817Z
LAST-MODIFIED:20250520T114817Z
UID:2111-1749808800-1749816000@transitionilford.org.uk
SUMMARY:Forest Garden Weekly Gardening Sessions
DESCRIPTION:Just turn up on Fridays to join in the growing\, watering\, maintenance of our lovely community Forest Garden.    To see more information look at our Forest Garden webpage.  For the google pin click here: 
URL:https://transitionilford.org.uk/event/forest-garden-weekly-gardening-sessions-2/
CATEGORIES:Forest Garden
END:VEVENT
BEGIN:VEVENT
DTSTART;TZID=UTC:20250606T100000
DTEND;TZID=UTC:20250606T120000
DTSTAMP:20260424T162926
CREATED:20250520T114737Z
LAST-MODIFIED:20250520T114737Z
UID:2106-1749204000-1749211200@transitionilford.org.uk
SUMMARY:Forest Garden Weekly Gardening Sessions
DESCRIPTION:Just turn up on Fridays to join in the growing\, watering\, maintenance of our lovely community Forest Garden.    To see more information look at our Forest Garden webpage.  For the google pin click here: 
URL:https://transitionilford.org.uk/event/forest-garden-weekly-gardening-sessions/
CATEGORIES:Forest Garden
END:VEVENT
BEGIN:VEVENT
DTSTART;TZID=UTC:20250531T140000
DTEND;TZID=UTC:20250531T154500
DTSTAMP:20260424T162926
CREATED:20250401T123350Z
LAST-MODIFIED:20250401T123350Z
UID:1943-1748700000-1748706300@transitionilford.org.uk
SUMMARY:Repair/ Energy Cafe
DESCRIPTION:https://transitionilford.org.uk/wp-content/uploads/2024/10/Ilford-Repair-Cafe-summer-24.mp4\nWe run two Repair Cafes a month at the fabulous Lab Central on the ground floor of Redbridge Central Library in Ilford.  It runs on alternate Saturdays from 2pm to 3.30pm\, but always check our website or socials. \nWe do electrical repairs\, sewing repairs\, computers (need to contact us first)\, sometimes jewellery\, we have a volunteer who is great at mending zips and we like to mend bits and bobs.   \nWe run an Energy Café at the same time with tips and support for energy reduction and saving money/carbon.  It’s a great atmosphere and we look forward to your visit. 
URL:https://transitionilford.org.uk/event/repair-energy-cafe-13/
LOCATION:Redbridge Central Library\, Clements Rd\, Ilford\, London\, IG1 1EA\, United Kingdom
CATEGORIES:Energy Cafe,Reapir/ Energy Cafe,Repair Cafe
END:VEVENT
BEGIN:VEVENT
DTSTART;TZID=Europe/London:20250530T100000
DTEND;TZID=Europe/London:20250530T120000
DTSTAMP:20260424T162926
CREATED:20250520T113344Z
LAST-MODIFIED:20250520T113608Z
UID:2083-1748599200-1748606400@transitionilford.org.uk
SUMMARY:Family gardening session at the Forest Garden
DESCRIPTION:Family gardening and nature activities.  Open to all.  Just turn up.  Children need to be with an adult.  Here is the google pin. https://maps.app.goo.gl/CCmornkFkoj5xqhw5
URL:https://transitionilford.org.uk/event/family-gardening-session-at-the-forest-garden/
LOCATION:Valentines Park Forest Garden
END:VEVENT
BEGIN:VEVENT
DTSTART;TZID=UTC:20250523T100000
DTEND;TZID=UTC:20250523T120000
DTSTAMP:20260424T162926
CREATED:20250218T125210Z
LAST-MODIFIED:20250520T114556Z
UID:1831-1747994400-1748001600@transitionilford.org.uk
SUMMARY:Forest Garden Weekly Gardening Sessions
DESCRIPTION:Just turn up on Fridays to join in the growing\, watering\, maintenance of our lovely community Forest Garden.    To see more information look at our Forest Garden webpage.  For the google pin click here: 
URL:https://transitionilford.org.uk/event/forest-garden-gardening-sessions-6/
CATEGORIES:Forest Garden
END:VEVENT
BEGIN:VEVENT
DTSTART;TZID=Europe/London:20250519T130000
DTEND;TZID=Europe/London:20250519T170000
DTSTAMP:20260424T162926
CREATED:20250429T105854Z
LAST-MODIFIED:20250429T105854Z
UID:2028-1747659600-1747674000@transitionilford.org.uk
SUMMARY:Art in the Park\, Free Watercolour Workshops in Nature
DESCRIPTION:Book via Eventbrite
URL:https://transitionilford.org.uk/event/art-in-the-park-free-watercolour-workshops-in-nature-2/
END:VEVENT
BEGIN:VEVENT
DTSTART;TZID=UTC:20250517T140000
DTEND;TZID=UTC:20250517T154500
DTSTAMP:20260424T162926
CREATED:20250401T123325Z
LAST-MODIFIED:20250401T123325Z
UID:1941-1747490400-1747496700@transitionilford.org.uk
SUMMARY:Repair/ Energy Cafe
DESCRIPTION:https://transitionilford.org.uk/wp-content/uploads/2024/10/Ilford-Repair-Cafe-summer-24.mp4\nWe run two Repair Cafes a month at the fabulous Lab Central on the ground floor of Redbridge Central Library in Ilford.  It runs on alternate Saturdays from 2pm to 3.30pm\, but always check our website or socials. \nWe do electrical repairs\, sewing repairs\, computers (need to contact us first)\, sometimes jewellery\, we have a volunteer who is great at mending zips and we like to mend bits and bobs.   \nWe run an Energy Café at the same time with tips and support for energy reduction and saving money/carbon.  It’s a great atmosphere and we look forward to your visit. 
URL:https://transitionilford.org.uk/event/repair-energy-cafe-12/
LOCATION:Redbridge Central Library\, Clements Rd\, Ilford\, London\, IG1 1EA\, United Kingdom
CATEGORIES:Energy Cafe,Reapir/ Energy Cafe,Repair Cafe
END:VEVENT
BEGIN:VEVENT
DTSTART;TZID=Europe/London:20250512T130000
DTEND;TZID=Europe/London:20250512T170000
DTSTAMP:20260424T162926
CREATED:20250429T105407Z
LAST-MODIFIED:20250429T110126Z
UID:2025-1747054800-1747069200@transitionilford.org.uk
SUMMARY:Art in the Park\, Free Watercolour Workshops in Nature
DESCRIPTION:Book via Eventbrite \n 
URL:https://transitionilford.org.uk/event/art-in-the-park-free-watercolour-workshops-in-nature/
END:VEVENT
BEGIN:VEVENT
DTSTART;TZID=UTC:20250503T140000
DTEND;TZID=UTC:20250503T154500
DTSTAMP:20260424T162926
CREATED:20250401T123240Z
LAST-MODIFIED:20250401T123240Z
UID:1939-1746280800-1746287100@transitionilford.org.uk
SUMMARY:Repair/ Energy Cafe
DESCRIPTION:https://transitionilford.org.uk/wp-content/uploads/2024/10/Ilford-Repair-Cafe-summer-24.mp4\nWe run two Repair Cafes a month at the fabulous Lab Central on the ground floor of Redbridge Central Library in Ilford.  It runs on alternate Saturdays from 2pm to 3.30pm\, but always check our website or socials. \nWe do electrical repairs\, sewing repairs\, computers (need to contact us first)\, sometimes jewellery\, we have a volunteer who is great at mending zips and we like to mend bits and bobs.   \nWe run an Energy Café at the same time with tips and support for energy reduction and saving money/carbon.  It’s a great atmosphere and we look forward to your visit. 
URL:https://transitionilford.org.uk/event/repair-energy-cafe-11/
LOCATION:Redbridge Central Library\, Clements Rd\, Ilford\, London\, IG1 1EA\, United Kingdom
CATEGORIES:Energy Cafe,Reapir/ Energy Cafe,Repair Cafe
END:VEVENT
BEGIN:VEVENT
DTSTART;TZID=UTC:20250419T140000
DTEND;TZID=UTC:20250419T154500
DTSTAMP:20260424T162926
CREATED:20250401T123114Z
LAST-MODIFIED:20250401T123114Z
UID:1937-1745071200-1745077500@transitionilford.org.uk
SUMMARY:Repair/ Energy Cafe
DESCRIPTION:https://transitionilford.org.uk/wp-content/uploads/2024/10/Ilford-Repair-Cafe-summer-24.mp4\nWe run two Repair Cafes a month at the fabulous Lab Central on the ground floor of Redbridge Central Library in Ilford.  It runs on alternate Saturdays from 2pm to 3.30pm\, but always check our website or socials. \nWe do electrical repairs\, sewing repairs\, computers (need to contact us first)\, sometimes jewellery\, we have a volunteer who is great at mending zips and we like to mend bits and bobs.   \nWe run an Energy Café at the same time with tips and support for energy reduction and saving money/carbon.  It’s a great atmosphere and we look forward to your visit. 
URL:https://transitionilford.org.uk/event/repair-energy-cafe-10/
LOCATION:Redbridge Central Library\, Clements Rd\, Ilford\, London\, IG1 1EA\, United Kingdom
CATEGORIES:Energy Cafe,Reapir/ Energy Cafe,Repair Cafe
END:VEVENT
BEGIN:VEVENT
DTSTART;TZID=UTC:20250418T100000
DTEND;TZID=UTC:20250418T120000
DTSTAMP:20260424T162926
CREATED:20250401T112023Z
LAST-MODIFIED:20250401T112023Z
UID:1920-1744970400-1744977600@transitionilford.org.uk
SUMMARY:Forest Garden\, School Holidays Activities
DESCRIPTION:Everyone is welcome to come along to our garden and join our upcoming family activities in the forest garden this spring holiday… \nThere will be plenty of activities for adults and children alike.
URL:https://transitionilford.org.uk/event/forest-garden-school-holidays-activities/
CATEGORIES:Forest Garden
END:VEVENT
BEGIN:VEVENT
DTSTART;TZID=Europe/London:20250412T110000
DTEND;TZID=Europe/London:20250412T160000
DTSTAMP:20260424T162926
CREATED:20250225T110810Z
LAST-MODIFIED:20250225T111856Z
UID:1858-1744455600-1744473600@transitionilford.org.uk
SUMMARY:Green Home Open Day
DESCRIPTION:Want to save money on energy bills and go greener at home? See energy saving features like external wall insulation\, air source heat pump\, solar panels. Learn about grants which are available. Pick up energy saving tips. \nFull address to be given once you register via Eventbrite here \nPlease state at the time of booking what tour time you would like to attend as places are limited.
URL:https://transitionilford.org.uk/event/green-home-open-day/
LOCATION:Auckland Road\, IG1\, Ilford\, London\, IG1\, United Kingdom
CATEGORIES:Energy Cafe
END:VEVENT
BEGIN:VEVENT
DTSTART;TZID=UTC:20250409T140000
DTEND;TZID=UTC:20250409T160000
DTSTAMP:20260424T162926
CREATED:20250401T110052Z
LAST-MODIFIED:20250401T110052Z
UID:1903-1744207200-1744214400@transitionilford.org.uk
SUMMARY:Forest Garden\, School Holidays Activities
DESCRIPTION:Everyone is welcome to come along to our garden and join our upcoming family activities in the forest garden this spring holiday… \nThere will be plenty of activities for adults and children alike.
URL:https://transitionilford.org.uk/event/forest-garden-school-holidays-activities-2/
CATEGORIES:Forest Garden
END:VEVENT
BEGIN:VEVENT
DTSTART;TZID=UTC:20250405T140000
DTEND;TZID=UTC:20250405T154500
DTSTAMP:20260424T162926
CREATED:20250401T123037Z
LAST-MODIFIED:20250401T123037Z
UID:1935-1743861600-1743867900@transitionilford.org.uk
SUMMARY:Repair/ Energy Cafe
DESCRIPTION:https://transitionilford.org.uk/wp-content/uploads/2024/10/Ilford-Repair-Cafe-summer-24.mp4\nWe run two Repair Cafes a month at the fabulous Lab Central on the ground floor of Redbridge Central Library in Ilford.  It runs on alternate Saturdays from 2pm to 3.30pm\, but always check our website or socials. \nWe do electrical repairs\, sewing repairs\, computers (need to contact us first)\, sometimes jewellery\, we have a volunteer who is great at mending zips and we like to mend bits and bobs.   \nWe run an Energy Café at the same time with tips and support for energy reduction and saving money/carbon.  It’s a great atmosphere and we look forward to your visit. 
URL:https://transitionilford.org.uk/event/repair-energy-cafe-9/
LOCATION:Redbridge Central Library\, Clements Rd\, Ilford\, London\, IG1 1EA\, United Kingdom
CATEGORIES:Energy Cafe,Reapir/ Energy Cafe,Repair Cafe
END:VEVENT
BEGIN:VEVENT
DTSTART;TZID=UTC:20250322T140000
DTEND;TZID=UTC:20250322T154500
DTSTAMP:20260424T162926
CREATED:20250225T111313Z
LAST-MODIFIED:20250225T111313Z
UID:1867-1742652000-1742658300@transitionilford.org.uk
SUMMARY:Repair/ Energy Cafe
DESCRIPTION:https://transitionilford.org.uk/wp-content/uploads/2024/10/Ilford-Repair-Cafe-summer-24.mp4\nWe run two Repair Cafes a month at the fabulous Lab Central on the ground floor of Redbridge Central Library in Ilford.  It runs on alternate Saturdays from 2pm to 3.30pm\, but always check our website or socials. \nWe do electrical repairs\, sewing repairs\, computers (need to contact us first)\, sometimes jewellery\, we have a volunteer who is great at mending zips and we like to mend bits and bobs.   \nWe run an Energy Café at the same time with tips and support for energy reduction and saving money/carbon.  It’s a great atmosphere and we look forward to your visit. 
URL:https://transitionilford.org.uk/event/repair-energy-cafe-8/
LOCATION:Redbridge Central Library\, Clements Rd\, Ilford\, London\, IG1 1EA\, United Kingdom
CATEGORIES:Energy Cafe,Reapir/ Energy Cafe,Repair Cafe
END:VEVENT
BEGIN:VEVENT
DTSTART;TZID=UTC:20250308T140000
DTEND;TZID=UTC:20250308T154500
DTSTAMP:20260424T162926
CREATED:20250225T111153Z
LAST-MODIFIED:20250225T111220Z
UID:1865-1741442400-1741448700@transitionilford.org.uk
SUMMARY:Repair/ Energy Cafe
DESCRIPTION:https://transitionilford.org.uk/wp-content/uploads/2024/10/Ilford-Repair-Cafe-summer-24.mp4\nWe run two Repair Cafes a month at the fabulous Lab Central on the ground floor of Redbridge Central Library in Ilford.  It runs on alternate Saturdays from 2pm to 3.30pm\, but always check our website or socials. \nWe do electrical repairs\, sewing repairs\, computers (need to contact us first)\, sometimes jewellery\, we have a volunteer who is great at mending zips and we like to mend bits and bobs.   \nWe run an Energy Café at the same time with tips and support for energy reduction and saving money/carbon.  It’s a great atmosphere and we look forward to your visit. 
URL:https://transitionilford.org.uk/event/repair-energy-cafe-7/
LOCATION:Redbridge Central Library\, Clements Rd\, Ilford\, London\, IG1 1EA\, United Kingdom
CATEGORIES:Energy Cafe,Reapir/ Energy Cafe,Repair Cafe
END:VEVENT
END:VCALENDAR